Workbook

Sheet Порівняльна дод.1
D1: Порівняльна таблиця до Закону України "Про внесення змін до Закону України "Про Державний бюджет України на 2017 рік" щодо державної підтримки вугледобувних підприємств на часткове покриття витрат із собівартості готової товарної вугільної продукції
R2: (тис.грн.)
A3: Код програмної класи- фікації видатків та креди- тування державного бюджету | B3: Код функці- ональної класи- фікації видатків та креди- тування бюджету | C3: Найменування згідно з відомчою і програмною класифікаціями видатків та кредитування державного бюджету | D3: Затверджено | I3: Зміни, що пропонуються | N3: Проект з урахуванням змін
D4: Загальний фонд | I4: Загальний фонд | N4: Загальний фонд
D5: Всього | E5: видатки споживання | F5: з них: | H5: видатки розвитку | I5: Всього | J5: видатки спо- живання | K5: з них: | M5: видатки розвитку | N5: Всього | O5: видатки споживання | P5: з них: | R5: видатки розвитку
F6: оплата праці | G6: комунальні послуги та енергоносії | K6: оплата праці | L6: комунальні послуги та енергоносії | P6: оплата праці | Q6: комунальні послуги та енергоносії
C7: Всього: | D7: 7.6768357e+08 | E7: 7.2212245e+08 | F7: 1.0901484e+08 | G7: 6240010.4 | H7: 44061125 | I7: =I8 -> 522000 | J7: =J8 -> 0 | K7: =K8 -> 0 | L7: =L8 -> 0 | M7: =M8 -> 522000 | N7: =D7+I7 -> 7.6820557e+08 | O7: =E7+J7 -> 7.2212245e+08 | P7: =F7+K7 -> 1.0901484e+08 | Q7: =G7+L7 -> 6240010.4 | R7: =H7+M7 -> 44583125
A8: 1100000 | C8: Міністерство енергетики та вугільної промисловості України | D8: 2686815.1 | E8: 374403 | F8: 59964 | G8: 2957.9 | H8: 2312412.1 | I8: =I9 -> 522000 | J8: =J9 -> 0 | K8: =K9 -> 0 | L8: =L9 -> 0 | M8: =M9 -> 522000 | N8: =D8+I8 -> 3208815.1 | O8: =E8+J8 -> 374403 | P8: =F8+K8 -> 59964 | Q8: =G8+L8 -> 2957.9 | R8: =H8+M8 -> 2834412.1
A9: 1101000 | C9: Апарат Міністерства енергетики та вугільної промисловості України | D9: 2686815.1 | E9: 374403 | F9: 59964 | G9: 2957.9 | H9: 2312412.1 | I9: =J9+I10 -> 522000 | J9: =J10 -> 0 | K9: =K10 -> 0 | L9: =L10 -> 0 | M9: =M10 -> 522000 | N9: =D9+I9 -> 3208815.1 | O9: =E9+J9 -> 374403 | P9: =F9+K9 -> 59964 | Q9: =G9+L9 -> 2957.9 | R9: =H9+M9 -> 2834412.1
A10: 1101110 | B10: 0431 | C10: Державна підтримка вугледобувних підприємств на часткове покриття витрат із собівартості готової товарної вугільної продукції | D10: 1429000 | E10: 0 | F10: 0 | G10: 0 | H10: 1429000 | I10: =J10+M10 -> 522000 | J10: 0 | K10: 0 | L10: 0 | M10: 522000 | N10: =D10+I10 -> 1951000 | O10: =E10+J10 -> 0 | P10: =F10+K10 -> 0 | Q10: =G10+L10 -> 0 | R10: =H10+M10 -> 1951000
C11: у тому числі погашення заборгованості за спожиту у 2015 році електричну енергію | I11: 0 | M11: 0 | N11: =D11+I11 -> 0 | R11: =H11+M11 -> 0
A12: Народний депутат України | O12: Бондар М.Л.
O13: Лапін І.О

Sheet Дод.1
K1: Додаток № 1
K2: до Закону України "Про внесення змін до Закону України "Про Державний бюджет України на 2016 рік" щодо державної підтримки вугледобувних підприємств на часткове покриття витрат із собівартості готової товарної вугільної продукції
A3: Зміни до додатка №3 до Закону України «Про Державний бюджет України на 2016 рік»
A4: «Розподіл видатків Державного бюджету України на 2016 рік»
N5: (тис.грн.)
A6: Код програмної класифікації видатків та кредитування державного бюджету | B6: Код функціональної класифікації видатків та кредитування бюджету | C6: Найменування згідно з відомчою і програмною класифікаціями видатків та кредитування державного бюджету | D6: Загальний фонд | I6: Спеціальний фонд | N6: Разом
D7: Всього | E7: видатки споживання | F7: з них | H7: видатки розвитку | I7: Всього | J7: видатки споживання | K7: з них | M7: видатки розвитку
F8: оплата праці | G8: комунальні послуги та енергоносії | K8: оплата праці | L8: комунальні послуги та енергоносії
C9: Всього: | D9: ='Порівняльна дод.1'!N7 -> 7.6820557e+08 | E9: ='Порівняльна дод.1'!O7 -> 7.2212245e+08 | F9: ='Порівняльна дод.1'!P7 -> 1.0901484e+08 | G9: ='Порівняльна дод.1'!Q7 -> 6240010.4 | H9: ='Порівняльна дод.1'!R7 -> 44583125 | I9: 34238492 | J9: 19636966 | K9: 2079580.9 | L9: 1295792.3 | M9: 14601524 | N9: =D9+I9 -> 8.0244406e+08
A10: 1100000 | C10: Міністерство енергетики та вугільної промисловості України | D10: ='Порівняльна дод.1'!N8 -> 3208815.1 | E10: ='Порівняльна дод.1'!O8 -> 374403 | F10: ='Порівняльна дод.1'!P8 -> 59964 | G10: ='Порівняльна дод.1'!Q8 -> 2957.9 | H10: ='Порівняльна дод.1'!R8 -> 2834412.1 | I10: =I11 -> 470287.4 | J10: =J11 -> 469485.8 | K10: =K11 -> 0 | L10: =L11 -> 1303.2 | M10: =M11 -> 801.6 | N10: =D10+I10 -> 3679102.5
A11: 1101000 | C11: Апарат Міністерства енергетики та вугільної промисловості України | D11: ='Порівняльна дод.1'!N9 -> 3208815.1 | E11: ='Порівняльна дод.1'!O9 -> 374403 | F11: ='Порівняльна дод.1'!P9 -> 59964 | G11: ='Порівняльна дод.1'!Q9 -> 2957.9 | H11: ='Порівняльна дод.1'!R9 -> 2834412.1 | I11: 470287.4 | J11: 469485.8 | K11: 0 | L11: 1303.2 | M11: 801.6 | N11: =D11+I11 -> 3679102.5
A12: 1101110 | B12: 0431 | C12: Державна підтримка вугледобувних підприємств на часткове покриття витрат із собівартості готової товарної вугільної продукції | D12: =E12+H12 -> 1951000 | E12: ='Порівняльна дод.1'!O10 -> 0 | F12: ='Порівняльна дод.1'!P10 -> 0 | G12: ='Порівняльна дод.1'!Q10 -> 0 | H12: ='Порівняльна дод.1'!R10 -> 1951000 | I12: 0 | J12: 0 | K12: 0 | L12: 0 | M12: 0 | N12: =D12+I12 -> 1951000
C14: Народний депутат України Бондар М.Л.
